BEGIN:VCALENDAR
VERSION:2.0
PRODID:-//Dombes Cotière Tourisme - ECPv6.15.20//NONSGML v1.0//EN
CALSCALE:GREGORIAN
METHOD:PUBLISH
X-ORIGINAL-URL:https://www.dombes-cotiere-tourisme.fr
X-WR-CALDESC:Évènements pour Dombes Cotière Tourisme
REFRESH-INTERVAL;VALUE=DURATION:PT1H
X-Robots-Tag:noindex
X-PUBLISHED-TTL:PT1H
BEGIN:VTIMEZONE
TZID:Europe/Paris
BEGIN:DAYLIGHT
TZOFFSETFROM:+0100
TZOFFSETTO:+0200
TZNAME:CEST
DTSTART:20250330T010000
END:DAYLIGHT
BEGIN:STANDARD
TZOFFSETFROM:+0200
TZOFFSETTO:+0100
TZNAME:CET
DTSTART:20251026T010000
END:STANDARD
BEGIN:DAYLIGHT
TZOFFSETFROM:+0100
TZOFFSETTO:+0200
TZNAME:CEST
DTSTART:20260329T010000
END:DAYLIGHT
BEGIN:STANDARD
TZOFFSETFROM:+0200
TZOFFSETTO:+0100
TZNAME:CET
DTSTART:20261025T010000
END:STANDARD
BEGIN:DAYLIGHT
TZOFFSETFROM:+0100
TZOFFSETTO:+0200
TZNAME:CEST
DTSTART:20270328T010000
END:DAYLIGHT
BEGIN:STANDARD
TZOFFSETFROM:+0200
TZOFFSETTO:+0100
TZNAME:CET
DTSTART:20271031T010000
END:STANDARD
END:VTIMEZONE
BEGIN:VEVENT
DTSTART;TZID=Europe/Paris:20260806T183000
DTEND;TZID=Europe/Paris:20260806T235959
DTSTAMP:20260421T104432
CREATED:20260323T000614Z
LAST-MODIFIED:20260323T000614Z
UID:15962-1786041000-1786060799@www.dombes-cotiere-tourisme.fr
SUMMARY:Animation "À l'écoute des chauve-souris"
DESCRIPTION:Une soirée pour écouter et observer les chauves-souris dans leur milieu naturel. Une expérience sensorielle unique\, entre science\, émerveillement et redécouverte de la nuit. \n– 3 € par personne– dès 5 ans– prévoir pique-nique\, vêtements adaptés et anti-moustique– à partir de 18h30 – durée : 3h environ
URL:https://www.dombes-cotiere-tourisme.fr/evenement/animation-a-lecoute-des-chauve-souris/
LOCATION:Thil (01120)\, Thil\, 01120\, France
ATTACH;FMTTYPE=image/png:https://www.dombes-cotiere-tourisme.fr/wp-content/uploads/2026/03/Capture-decran-2026-03-22-172544.png
END:VEVENT
END:VCALENDAR