BEGIN:VCALENDAR
VERSION:2.0
PRODID:-//Dombes Cotière Tourisme - ECPv6.15.20//NONSGML v1.0//EN
CALSCALE:GREGORIAN
METHOD:PUBLISH
X-WR-CALNAME:Dombes Cotière Tourisme
X-ORIGINAL-URL:https://www.dombes-cotiere-tourisme.fr
X-WR-CALDESC:Évènements pour Dombes Cotière Tourisme
REFRESH-INTERVAL;VALUE=DURATION:PT1H
X-Robots-Tag:noindex
X-PUBLISHED-TTL:PT1H
BEGIN:VTIMEZONE
TZID:Europe/Paris
BEGIN:DAYLIGHT
TZOFFSETFROM:+0100
TZOFFSETTO:+0200
TZNAME:CEST
DTSTART:20250330T010000
END:DAYLIGHT
BEGIN:STANDARD
TZOFFSETFROM:+0200
TZOFFSETTO:+0100
TZNAME:CET
DTSTART:20251026T010000
END:STANDARD
BEGIN:DAYLIGHT
TZOFFSETFROM:+0100
TZOFFSETTO:+0200
TZNAME:CEST
DTSTART:20260329T010000
END:DAYLIGHT
BEGIN:STANDARD
TZOFFSETFROM:+0200
TZOFFSETTO:+0100
TZNAME:CET
DTSTART:20261025T010000
END:STANDARD
BEGIN:DAYLIGHT
TZOFFSETFROM:+0100
TZOFFSETTO:+0200
TZNAME:CEST
DTSTART:20270328T010000
END:DAYLIGHT
BEGIN:STANDARD
TZOFFSETFROM:+0200
TZOFFSETTO:+0100
TZNAME:CET
DTSTART:20271031T010000
END:STANDARD
END:VTIMEZONE
BEGIN:VEVENT
DTSTART;TZID=Europe/Paris:20260424T203000
DTEND;TZID=Europe/Paris:20260425T230000
DTSTAMP:20260425T230352
CREATED:20260410T233830Z
LAST-MODIFIED:20260410T233830Z
UID:16049-1777062600-1777158000@www.dombes-cotiere-tourisme.fr
SUMMARY:Concert avec "Feel of Floyd" à Artémis
DESCRIPTION:
URL:https://www.dombes-cotiere-tourisme.fr/evenement/concert-avec-feel-of-floyd-a-artemis/
LOCATION:Centre socio-culturel ARTEMIS\, 32\, route de Genève\, Saint-Maurice-de-Beynost\, 01700\, France
ATTACH;FMTTYPE=image/jpeg:https://www.dombes-cotiere-tourisme.fr/wp-content/uploads/2024/07/Feel-of-floyd.jpg
ORGANIZER;CN="Centre socio-culturel ARTEMIS":MAILTO:accueil@artemis-smb.fr
END:VEVENT
BEGIN:VEVENT
DTSTART;TZID=Europe/Paris:20260425T000000
DTEND;TZID=Europe/Paris:20260425T235959
DTSTAMP:20260425T230352
CREATED:20260424T115810Z
LAST-MODIFIED:20260424T115810Z
UID:16227-1777075200-1777161599@www.dombes-cotiere-tourisme.fr
SUMMARY:Le Printemps des Arts | Exposition photos: "Fragments d'un départ"
DESCRIPTION:Chaque objet raconte un fragment de vie : un souvenir\, une attache\, un symboleEn partenariat avec le CADA et l’association « Photo Passion des Échets »
URL:https://www.dombes-cotiere-tourisme.fr/evenement/le-printemps-des-arts-exposition-photos-fragments-dun-depart-2/
LOCATION:Bibliothèque du centre socio-culturel ARTEMIS\, 32\, route de Genève\, Saint-Maurice-de-Beynost\, 01700\, France
ORGANIZER;CN="Biblioth%C3%A8que du centre socio-culturel ARTEMIS":MAILTO:bibliotheque@artemis-smb.fr
END:VEVENT
BEGIN:VEVENT
DTSTART;TZID=Europe/Paris:20260425T100000
DTEND;TZID=Europe/Paris:20260425T180000
DTSTAMP:20260425T230352
CREATED:20260225T232432Z
LAST-MODIFIED:20260225T232432Z
UID:15684-1777111200-1777140000@www.dombes-cotiere-tourisme.fr
SUMMARY:4ème "Fête du Conte" à l'Iloz'
DESCRIPTION:Venez prêter vos oreilles aux histoires des six conteuses et conteurs qui vous feront voyager de la réalité au rêve\, du rêve à la réalité\, à travers tous les continents ! \nFête coorganisée par le Collectif Ananssé et le Grand Parc Miribel JonageAnimation ouverte à toutes et tous\, dès l’âge de 2 ans.Places limitées à 550 personnes.Réservez dès à présent vos billets ci-dessous.Présence obligatoire d’un adulte accompagnant pour les moins de 18 ans.Pour le confort de tous\, les jauges des spectacles des tout-petits (2 ans) seront limitées
URL:https://www.dombes-cotiere-tourisme.fr/evenement/4eme-fete-du-conte-a-liloz/
LOCATION:L’Iloz\, chemin du Moulin de Cheyssin\, Miribel\, 01700\, France
ATTACH;FMTTYPE=image/jpeg:https://www.dombes-cotiere-tourisme.fr/wp-content/uploads/2025/02/fete-du-conte-2026.jpg
ORGANIZER;CN="Grand Parc de Miribel Jonage":MAILTO:info@grand-parc.fr
END:VEVENT
BEGIN:VEVENT
DTSTART;TZID=Europe/Paris:20260425T110000
DTEND;TZID=Europe/Paris:20260425T235959
DTSTAMP:20260425T230352
CREATED:20260424T115809Z
LAST-MODIFIED:20260424T115809Z
UID:16217-1777114800-1777161599@www.dombes-cotiere-tourisme.fr
SUMMARY:Le Printemps des Arts | Spectacle "L'atelier d'Okilélé" par la Cie le Théâtre des Mots
DESCRIPTION:
URL:https://www.dombes-cotiere-tourisme.fr/evenement/le-printemps-des-arts-spectacle-latelier-dokilele-par-la-cie-le-theatre-des-mots-2/
LOCATION:Bibliothèque de Miribel\, 17 rue Joseph Carre\, Miribel\, 01700\, France
ATTACH;FMTTYPE=image/jpeg:https://www.dombes-cotiere-tourisme.fr/wp-content/uploads/2025/04/Printps-arts-neyron-26.jpg
ORGANIZER;CN="R%C3%A9seau de coordination des biblioth%C3%A8ques de la CCMP":MAILTO:coordination@bibliotheques-ccmp.fr
END:VEVENT
BEGIN:VEVENT
DTSTART;TZID=Europe/Paris:20260425T133000
DTEND;TZID=Europe/Paris:20260425T235959
DTSTAMP:20260425T230352
CREATED:20260416T224844Z
LAST-MODIFIED:20260416T224844Z
UID:16097-1777123800-1777161599@www.dombes-cotiere-tourisme.fr
SUMMARY:Sortie "Familles" avec Artémis: visites et activités dans 2 fermes
DESCRIPTION:
URL:https://www.dombes-cotiere-tourisme.fr/evenement/sortie-familles-avec-artemis-visites-et-activites-dans-2-fermes/
LOCATION:RDV place Charles de Gaulle (01700)\, RDV place Charles de Gaulle\, Saint-Maurice-de-Beynost\, 01700\, France
ORGANIZER;CN="Centre socio-culturel ARTEMIS":MAILTO:accueil@artemis-smb.fr
END:VEVENT
BEGIN:VEVENT
DTSTART;TZID=Europe/Paris:20260425T140000
DTEND;TZID=Europe/Paris:20260425T180000
DTSTAMP:20260425T230352
CREATED:20260417T225949Z
LAST-MODIFIED:20260417T225949Z
UID:16112-1777125600-1777140000@www.dombes-cotiere-tourisme.fr
SUMMARY:Vente de plants à la Forêt-Jardin avec Forts pour Demain
DESCRIPTION:
URL:https://www.dombes-cotiere-tourisme.fr/evenement/vente-de-plants-a-la-foret-jardin-avec-forts-pour-demain/
LOCATION:Forêt jardin\, au bout de la route du Fort en direction de la batterie de Sermonaz\, Neyron\, 01700\, France
ATTACH;FMTTYPE=image/jpeg:https://www.dombes-cotiere-tourisme.fr/wp-content/uploads/2025/04/Ventes-plants-Neyron.jpg
ORGANIZER;CN="Forts pour Demain":MAILTO:fortspourdemain@gmail.com
END:VEVENT
BEGIN:VEVENT
DTSTART;TZID=Europe/Paris:20260425T140000
DTEND;TZID=Europe/Paris:20260425T190000
DTSTAMP:20260425T230352
CREATED:20260411T235014Z
LAST-MODIFIED:20260411T235014Z
UID:16056-1777125600-1777143600@www.dombes-cotiere-tourisme.fr
SUMMARY:11ème exposition photos par le Club Photo Passion des Echets
DESCRIPTION:
URL:https://www.dombes-cotiere-tourisme.fr/evenement/11eme-exposition-photos-par-le-club-photo-passion-des-echets/
LOCATION:salle des fêtes des Echets\, rue de la Dombes Les Echets\, Miribel\, 01700\, France
ATTACH;FMTTYPE=image/jpeg:https://www.dombes-cotiere-tourisme.fr/wp-content/uploads/2026/04/expo-photo-Echets-26.jpg
ORGANIZER;CN="Photo Passion des Echets":MAILTO:avelinemima@orange.fr
END:VEVENT
BEGIN:VEVENT
DTSTART;TZID=Europe/Paris:20260425T150000
DTEND;TZID=Europe/Paris:20260425T180000
DTSTAMP:20260425T230352
CREATED:20260414T222212Z
LAST-MODIFIED:20260414T222212Z
UID:16070-1777129200-1777140000@www.dombes-cotiere-tourisme.fr
SUMMARY:Fête du Printemps et Chasse aux oeufs de Pâques par le Sou des Ecoles des Echets
DESCRIPTION:Buvette et gourmandises sur place\, activités créatives et printanières …\, Suivez le lien: https://www.helloasso.com/associations/sou-des-ecoles-des-echets/evenements/chasse-aux-oeufs-2026
URL:https://www.dombes-cotiere-tourisme.fr/evenement/fete-du-printemps-et-chasse-aux-oeufs-de-paques-par-le-sou-des-ecoles-des-echets/
LOCATION:Ecole Jean de la Fontaine\, route de Tramoyes Les Echets\, Miribel\, 01700\, France
ATTACH;FMTTYPE=image/jpeg:https://www.dombes-cotiere-tourisme.fr/wp-content/uploads/2012/03/FETE-DU-PRINTEMPS-CHASSE-AUX-OEUFS-768x1086-1.jpg
ORGANIZER;CN="Sou des %C3%A9coles des Echets":MAILTO:soudesecolesechets@gmail.com
END:VEVENT
BEGIN:VEVENT
DTSTART;TZID=Europe/Paris:20260425T193000
DTEND;TZID=Europe/Paris:20260425T235959
DTSTAMP:20260425T230352
CREATED:20260311T000513Z
LAST-MODIFIED:20260311T000513Z
UID:15775-1777145400-1777161599@www.dombes-cotiere-tourisme.fr
SUMMARY:"Les Rdv de la Musique": soirée latine
DESCRIPTION:
URL:https://www.dombes-cotiere-tourisme.fr/evenement/les-rdv-de-la-musique-soiree-latine/
LOCATION:Complexe du Mas de Roux\, 40 rue du midi\, Beynost\, 01700\, France
ATTACH;FMTTYPE=image/jpeg:https://www.dombes-cotiere-tourisme.fr/wp-content/uploads/2026/03/LOGO-CCMP-Vertical.jpg
ORGANIZER;CN="Acad%C3%A9mie de Musique et de Danse de la CCMP (AMD)":MAILTO:amd@cc-miribel.fr
END:VEVENT
BEGIN:VEVENT
DTSTART;TZID=Europe/Paris:20260425T193000
DTEND;TZID=Europe/Paris:20260425T235959
DTSTAMP:20260425T230352
CREATED:20260410T233829Z
LAST-MODIFIED:20260410T233829Z
UID:16047-1777145400-1777161599@www.dombes-cotiere-tourisme.fr
SUMMARY:Grande "soirée Latino" avec concert de l'orchestre d'Harmonie L'Espérance  et soirée dansante avec Temps Danse Latino
DESCRIPTION:
URL:https://www.dombes-cotiere-tourisme.fr/evenement/grande-soiree-latino-avec-concert-de-lorchestre-dharmonie-lesperance-et-soiree-dansante-avec-temps-danse-latino/
LOCATION:Complexe du Mas de Roux\, 40 rue du midi\, Beynost\, 01700\, France
ATTACH;FMTTYPE=image/jpeg:https://www.dombes-cotiere-tourisme.fr/wp-content/uploads/2026/04/soiree-latino-26.jpg
ORGANIZER;CN="Soci%C3%A9t%C3%A9 Musicale L'Esp%C3%A9rance de Beynost":MAILTO:esperancedebeynost@gmail.com
END:VEVENT
END:VCALENDAR